BEGIN:VCALENDAR
VERSION:2.0
PRODID:-//Hundeleo - ECPv6.15.20//NONSGML v1.0//EN
CALSCALE:GREGORIAN
METHOD:PUBLISH
X-ORIGINAL-URL:https://hundeleo.de
X-WR-CALDESC:Veranstaltungen für Hundeleo
REFRESH-INTERVAL;VALUE=DURATION:PT1H
X-Robots-Tag:noindex
X-PUBLISHED-TTL:PT1H
BEGIN:VTIMEZONE
TZID:Europe/Berlin
BEGIN:DAYLIGHT
TZOFFSETFROM:+0100
TZOFFSETTO:+0200
TZNAME:CEST
DTSTART:20240331T010000
END:DAYLIGHT
BEGIN:STANDARD
TZOFFSETFROM:+0200
TZOFFSETTO:+0100
TZNAME:CET
DTSTART:20241027T010000
END:STANDARD
BEGIN:DAYLIGHT
TZOFFSETFROM:+0100
TZOFFSETTO:+0200
TZNAME:CEST
DTSTART:20250330T010000
END:DAYLIGHT
BEGIN:STANDARD
TZOFFSETFROM:+0200
TZOFFSETTO:+0100
TZNAME:CET
DTSTART:20251026T010000
END:STANDARD
BEGIN:DAYLIGHT
TZOFFSETFROM:+0100
TZOFFSETTO:+0200
TZNAME:CEST
DTSTART:20260329T010000
END:DAYLIGHT
BEGIN:STANDARD
TZOFFSETFROM:+0200
TZOFFSETTO:+0100
TZNAME:CET
DTSTART:20261025T010000
END:STANDARD
END:VTIMEZONE
BEGIN:VEVENT
DTSTART;TZID=Europe/Berlin:20250831T180000
DTEND;TZID=Europe/Berlin:20250905T120000
DTSTAMP:20260421T211842
CREATED:20250603T060425Z
LAST-MODIFIED:20250603T070428Z
UID:223-1756663200-1757073600@hundeleo.de
SUMMARY:Hundstage im schönen Schwarzwald - September 25
DESCRIPTION:Es gibt wieder eine bunte Mischung aus Agility\, Apportieren\, Erziehung\, Hoopers\, Longieren und Tricktraining. \nDer tolle Laternengang und Erziehungsspaziergang runden das Programm ab.
URL:https://hundeleo.de/event/hundstage-im-schoenen-schwarzwald-september25/
LOCATION:Landgasthof Hirsch\, Hauptstraße 5\, Loßburg-Rodt\, Bayern\, 72290\, Deutschland
CATEGORIES:Seminare
ATTACH;FMTTYPE=image/jpeg:https://hundeleo.de/wp-content/uploads/2023/07/07_HundeleoSeminare_HundstageSchwarzwaldSep23.jpg
ORGANIZER;CN="Landgasthof Hotel Hirsch":MAILTO:hotel@hirsch-lossburg.de
END:VEVENT
END:VCALENDAR