BEGIN:VCALENDAR
VERSION:2.0
PRODID:-//Hundeleo - ECPv6.15.20//NONSGML v1.0//EN
CALSCALE:GREGORIAN
METHOD:PUBLISH
X-ORIGINAL-URL:https://hundeleo.de
X-WR-CALDESC:Veranstaltungen für Hundeleo
REFRESH-INTERVAL;VALUE=DURATION:PT1H
X-Robots-Tag:noindex
X-PUBLISHED-TTL:PT1H
BEGIN:VTIMEZONE
TZID:Europe/Berlin
BEGIN:DAYLIGHT
TZOFFSETFROM:+0100
TZOFFSETTO:+0200
TZNAME:CEST
DTSTART:20240331T010000
END:DAYLIGHT
BEGIN:STANDARD
TZOFFSETFROM:+0200
TZOFFSETTO:+0100
TZNAME:CET
DTSTART:20241027T010000
END:STANDARD
BEGIN:DAYLIGHT
TZOFFSETFROM:+0100
TZOFFSETTO:+0200
TZNAME:CEST
DTSTART:20250330T010000
END:DAYLIGHT
BEGIN:STANDARD
TZOFFSETFROM:+0200
TZOFFSETTO:+0100
TZNAME:CET
DTSTART:20251026T010000
END:STANDARD
BEGIN:DAYLIGHT
TZOFFSETFROM:+0100
TZOFFSETTO:+0200
TZNAME:CEST
DTSTART:20260329T010000
END:DAYLIGHT
BEGIN:STANDARD
TZOFFSETFROM:+0200
TZOFFSETTO:+0100
TZNAME:CET
DTSTART:20261025T010000
END:STANDARD
END:VTIMEZONE
BEGIN:VEVENT
DTSTART;TZID=Europe/Berlin:20250913T183000
DTEND;TZID=Europe/Berlin:20250919T183000
DTSTAMP:20260421T211833
CREATED:20230705T153438Z
LAST-MODIFIED:20240427T095529Z
UID:187-1757788200-1758306600@hundeleo.de
SUMMARY:Kombikurs "Gehorsam\, Suchen\, Bringen und Springen" Sept.25
DESCRIPTION:Für alle aktiven und vielseitigen Hundebesitzer gibt’s hier eine Mischung aus kreativer Erziehung\, Apportieren\, Suchen und Agility.
URL:https://hundeleo.de/event/kombikurs-gehorsam-suchen-bringen-und-springen-sep25/
LOCATION:Hundesporthotel Wolf\, Dorfstraße 1\, Oberammergau\, Bayern\, 82487\, Deutschland
CATEGORIES:Seminare
ATTACH;FMTTYPE=image/jpeg:https://hundeleo.de/wp-content/uploads/2023/07/05_HundeleoSeminare_-KombikursMai23_Ogau.jpg
END:VEVENT
END:VCALENDAR