BEGIN:VCALENDAR
VERSION:2.0
PRODID:-//Hundeleo - ECPv6.15.20//NONSGML v1.0//EN
CALSCALE:GREGORIAN
METHOD:PUBLISH
X-WR-CALNAME:Hundeleo
X-ORIGINAL-URL:https://hundeleo.de
X-WR-CALDESC:Veranstaltungen für Hundeleo
REFRESH-INTERVAL;VALUE=DURATION:PT1H
X-Robots-Tag:noindex
X-PUBLISHED-TTL:PT1H
BEGIN:VTIMEZONE
TZID:Europe/Berlin
BEGIN:DAYLIGHT
TZOFFSETFROM:+0100
TZOFFSETTO:+0200
TZNAME:CEST
DTSTART:20240331T010000
END:DAYLIGHT
BEGIN:STANDARD
TZOFFSETFROM:+0200
TZOFFSETTO:+0100
TZNAME:CET
DTSTART:20241027T010000
END:STANDARD
BEGIN:DAYLIGHT
TZOFFSETFROM:+0100
TZOFFSETTO:+0200
TZNAME:CEST
DTSTART:20250330T010000
END:DAYLIGHT
BEGIN:STANDARD
TZOFFSETFROM:+0200
TZOFFSETTO:+0100
TZNAME:CET
DTSTART:20251026T010000
END:STANDARD
BEGIN:DAYLIGHT
TZOFFSETFROM:+0100
TZOFFSETTO:+0200
TZNAME:CEST
DTSTART:20260329T010000
END:DAYLIGHT
BEGIN:STANDARD
TZOFFSETFROM:+0200
TZOFFSETTO:+0100
TZNAME:CET
DTSTART:20261025T010000
END:STANDARD
END:VTIMEZONE
BEGIN:VEVENT
DTSTART;TZID=Europe/Berlin:20250105T180000
DTEND;TZID=Europe/Berlin:20250111T120000
DTSTAMP:20260425T190852
CREATED:20240426T142217Z
LAST-MODIFIED:20240426T142336Z
UID:518-1736100000-1736596800@hundeleo.de
SUMMARY:Kombikurs Leinenstress "Wer führt hier wen?" Jan 2025
DESCRIPTION:Wer führt hier?? Zwei- oder Vierbeiner?? – Leinenstress … Nein\, Danke!!!\nKombikurs mit Schwerpunkt Leinenmanagement. Außerdem mit Agility\, Trick und Longieren. \nEs gibt immer zwei Stunden täglich Unterricht. Natürlich in kleinen Gruppen\, wo auch der Leistungsstand der zugeordneten Teams ähnlich ist. \nGeeignet für alle Mensch/Hund-Teams\, die sich auch noch aktiv mit der Leinenführung auseinandersetzen müssen\, weil der Vierbeiner noch nicht so funktioniert\, wie es sein sollte. Die Hunde sollten schon mind. 7 – 8 Monate alt sein. \nTäglich kann eine andere Zusammensetzung gewählt werden. Es gibt jeweils eine Stunde „Leinenarbeit in jeder Situation“ und eine Stunde kann aus den angebotenen Themen gewählt werden.
URL:https://hundeleo.de/event/kombikurs-leinenstress-wer-fuehrt-hier-wen-jan25-in-oberammergau/
LOCATION:Hundesporthotel Wolf\, Dorfstraße 1\, Oberammergau\, Bayern\, 82487\, Deutschland
CATEGORIES:Seminare
ATTACH;FMTTYPE=image/jpeg:https://hundeleo.de/wp-content/uploads/2023/07/03_HundeleoSeminare-KombikursLeinenstress_Ogau-Jul23.jpg
END:VEVENT
END:VCALENDAR